BEGIN:VCALENDAR
VERSION:2.0
PRODID:-//eventon.com NONSGML v1.0//EN
BEGIN:VEVENT
UID:69e736289d79a
DTSTAMP:20260421T083240
DTSTART:20211126T190000Z
DTEND:20211126T235000Z
LOCATION:Fundación de Arte y Pensamiento Martín Chirino C/ Juan Rejón 35008 Las Palmas de Gran Canaria
SUMMARY:Equalitas Ensemble. Concierto de violonchelo y piano.
DESCRIPTION: [vc_row css_animation="" row_type="row" use_row_as_full_screen_section="no" type="full_width" angled_section="no" text_align="left" background_image_as_pattern="without_pattern" z_index=""][vc_column][vc_single_image image="9216" img_size="full" alignment="center" qode_css_animation=""][vc_empty_space height="30px"][vc_column_text] El próximo viernes 26 de noviembre\,  a las 19.00 horas\,  la Real Academia Canaria de Bellas Artes de San Miguel Arcángel\,  con el apoyo del Gobierno de Canarias y la colaboración de la Fundación de Arte[..]
END:VEVENT
END:VCALENDAR