BEGIN:VCALENDAR
VERSION:2.0
PRODID:-//eventon.com NONSGML v1.0//EN
BEGIN:VEVENT
UID:69e640c3ecd8d
DTSTAMP:20260420T150539
DTSTART:20260427T190000Z
DTEND:20260427T235000Z
LOCATION:Paraninfo ULL  Calle Pedro Zerolo\,  s/n\,  38071 La Laguna\,  Santa Cruz de Tenerife
SUMMARY:Homenaje a Rosario Álvarez Martínez
DESCRIPTION: [vc_row css_animation="" row_type="row" use_row_as_full_screen_section="no" type="full_width" angled_section="no" text_align="left" background_image_as_pattern="without_pattern" z_index=""][vc_column][vc_single_image image="12620" img_size="full" qode_css_animation=""][vc_empty_space height="40"][vc_column_text] La Universidad de La Laguna\,  en colaboración con la Real Academia Canaria de Bellas Artes\,  organiza un acto de homenaje a Dª María del Rosario Álvarez Martínez que tendrá lugar en el Paraninfo Universitario el próximo lunes 27 de abril\, [..]
END:VEVENT
END:VCALENDAR